BEGIN:VCALENDAR
VERSION:2.0
PRODID:-//Kaleidos Wine - ECPv6.15.20//NONSGML v1.0//EN
CALSCALE:GREGORIAN
METHOD:PUBLISH
X-ORIGINAL-URL:https://kaleidoswine.com
X-WR-CALDESC:Events for Kaleidos Wine
REFRESH-INTERVAL;VALUE=DURATION:PT1H
X-Robots-Tag:noindex
X-PUBLISHED-TTL:PT1H
BEGIN:VTIMEZONE
TZID:America/Los_Angeles
BEGIN:DAYLIGHT
TZOFFSETFROM:-0800
TZOFFSETTO:-0700
TZNAME:PDT
DTSTART:20240310T100000
END:DAYLIGHT
BEGIN:STANDARD
TZOFFSETFROM:-0700
TZOFFSETTO:-0800
TZNAME:PST
DTSTART:20241103T090000
END:STANDARD
BEGIN:DAYLIGHT
TZOFFSETFROM:-0800
TZOFFSETTO:-0700
TZNAME:PDT
DTSTART:20250309T100000
END:DAYLIGHT
BEGIN:STANDARD
TZOFFSETFROM:-0700
TZOFFSETTO:-0800
TZNAME:PST
DTSTART:20251102T090000
END:STANDARD
BEGIN:DAYLIGHT
TZOFFSETFROM:-0800
TZOFFSETTO:-0700
TZNAME:PDT
DTSTART:20260308T100000
END:DAYLIGHT
BEGIN:STANDARD
TZOFFSETFROM:-0700
TZOFFSETTO:-0800
TZNAME:PST
DTSTART:20261101T090000
END:STANDARD
END:VTIMEZONE
BEGIN:VEVENT
DTSTART;VALUE=DATE:20250502
DTEND;VALUE=DATE:20250505
DTSTAMP:20260423T013624
CREATED:20241219T030243Z
LAST-MODIFIED:20241219T030243Z
UID:875-1746144000-1746403199@kaleidoswine.com
SUMMARY:Wine and Cupcake Pairing With the Winemaker
DESCRIPTION:Immerse yourself in a symphony of flavors as we guide you through this unique pairing experience. Little Miss Cupcake has again curated an extraordinary tasting adventure. Her expertly crafted cupcakes\, specially designed to harmonize with each wine’s profile\, will enchant your palate with their delicate textures and complementary tastes. Join us at our Kaleidos Estate Vineyard\, where you will have the pleasure of sampling four Kaleidos wines alongside an exquisite selection of artisanal cupcakes. This unique experience will take you on a journey of taste and pleasure\, as you explore the remarkable harmony between wine and confection. Pairing flights are $30 per person and waived with a two bottle purchase. Tasting flight and cupcakes complimentary for Wine Club Members. Pairings are limited so reserve early! Reservations required. \n \n 
URL:https://kaleidoswine.com/event/wine-and-cupcake-pairing-with-the-winemaker-5/
LOCATION:Kaleidos Estate\, 1990 Township Rd.\, Paso Robles\, CA\, 93446\, United States
ATTACH;FMTTYPE=image/jpeg:https://kaleidoswine.com/wp-content/uploads/2024/11/IMG_2302-1.jpg
ORGANIZER;CN="Kaleidos":MAILTO:steve@kaleidoswine.com
END:VEVENT
BEGIN:VEVENT
DTSTART;TZID=America/Los_Angeles:20250503T140000
DTEND;TZID=America/Los_Angeles:20250503T170000
DTSTAMP:20260423T013624
CREATED:20250326T170807Z
LAST-MODIFIED:20250326T173711Z
UID:946-1746280800-1746291600@kaleidoswine.com
SUMMARY:Kaleidos Wine Club Pick-up Party. Open to the public.
DESCRIPTION:Get ready to kick back and have a blast at the Kaleidos Estate for our Spring 2025 Pick-up Party! Join us on Saturday\, May 3rd\, from 2 pm to 5 pm for an afternoon of great wine\, good vibes\, and fun company. \nSip your way through our latest spring wine club lineup\, plus some special surprises from Steve’s personal cellar. Enjoy delicious small bites and indulge in mini cupcakes from Little Miss Cupcake—the perfect pairing for these fantastic wines! And don’t forget to wear your sombreros to celebrate the season in style. \nTicket Details & Special Offers: \n🌟 12-bottle members receive 4 complimentary tickets (use code 12Bottle at checkout).🌟 6-bottle members receive 2 complimentary tickets (use code 6Bottle at checkout).🎟 Additional tickets are $40 per person\, but here’s the best part—we’ll comp your ticket with a wine club signup or a 2-bottle purchase! \nThis party is open to the public\, so bring your friends\, sip amazing wines\, and let’s make it a day to remember! 🍷🎉 \nWe can’t wait to raise a glass with you—see you there! 🥂
URL:https://kaleidoswine.com/event/kaleidos-wine-club-pick-up-party-open-to-the-public/
LOCATION:Kaleidos Estate\, 1990 Township Rd.\, Paso Robles\, CA\, 93446\, United States
ATTACH;FMTTYPE=image/jpeg:https://kaleidoswine.com/wp-content/uploads/2024/11/Events-scaled.jpg
ORGANIZER;CN="Kaleidos":MAILTO:steve@kaleidoswine.com
END:VEVENT
BEGIN:VEVENT
DTSTART;TZID=America/Los_Angeles:20250510T120000
DTEND;TZID=America/Los_Angeles:20250510T170000
DTSTAMP:20260423T013624
CREATED:20250201T181349Z
LAST-MODIFIED:20250206T235929Z
UID:915-1746878400-1746896400@kaleidoswine.com
SUMMARY:Half Moon Bay Wine and Jazz Festival
DESCRIPTION:Taste Outstanding California Wines\n\n\n\n\nExperience the best of California wines and live jazz at the Half Moon Bay Wine & Jazz Festival! Join Kaleidos and other top wineries for a day of exceptional wine tasting\, great music\, and coastal charm on historic Main Street. Sip\, savor\, and enjoy the vibrant festival atmosphere! \nTickets for the Half Moon Bay Wine & Jazz Fest are now on sale\, and I’m excited to offer a 20% discount code \nTo redeem the discount\, simply enter KAL25 at checkout on https://hmbwineandjazzfest.com/.
URL:https://kaleidoswine.com/event/half-moon-bay-wine-and-jazz-festival/
LOCATION:Main St\, Half Moon Bay\, Main St\, Half Moon Bay\, Half Moon Bay\, CA\, 94019\, United States
ATTACH;FMTTYPE=image/png:https://kaleidoswine.com/wp-content/uploads/2025/02/HMB-square.png
END:VEVENT
BEGIN:VEVENT
DTSTART;TZID=America/Los_Angeles:20250517T120000
DTEND;TZID=America/Los_Angeles:20250517T163000
DTSTAMP:20260423T013624
CREATED:20250201T183133Z
LAST-MODIFIED:20250201T183133Z
UID:925-1747483200-1747499400@kaleidoswine.com
SUMMARY:Paso Robles Wine Fest
DESCRIPTION:Paso Robles Wine Fest 2025 | Join Kaleidos for an Unforgettable Tasting Experience \nMark your calendars for the 2025 Paso Robles Wine Fest\, the region’s premier celebration of wine\, food\, and community! 🍷✨ Join Kaleidos Wine and other top Paso Robles wineries for a weekend filled with exceptional tastings\, live music\, and unforgettable experiences in the heart of California wine country. \nWhat to Expect at Paso Wine Fest 2025\n\nExclusive Wine Tastings – Sip and savor award-winning wines from over 100 Paso Robles wineries\, including our handcrafted Rhône-style blends.\nMeet the Winemakers – Connect with the passionate artisans behind the wines and learn more about our unique winemaking process.\nLive Music & Local Flavors – Enjoy great food pairings\, live entertainment\, and the vibrant atmosphere of Paso Robles.\nSpecial Kaleidos Offerings – Stop by our tasting area for exclusive pours\, limited releases\, and festival-only specials!\n\n📍 Location: Paso Robles Event Center & Participating Wineries\n📅 Date: May 15–18\, 2025\n🎟 Tickets & More Info: Paso Wine Fest Official Website \nWhether you’re a longtime fan of Kaleidos or discovering us for the first time\, we can’t wait to share our wines with you at Paso Robles Wine Fest 2025! Visit our Events Calendar to see more upcoming tastings and festivals.
URL:https://kaleidoswine.com/event/paso-robles-wine-fest/
LOCATION:Paso Robles Event Center\, 2198 Riverside Ave\, Paso Robles\, CA\, 93446\, United States
ATTACH;FMTTYPE=image/jpeg:https://kaleidoswine.com/wp-content/uploads/2025/02/PRWCA_Logo_PasoWineFest_2025.jpg
END:VEVENT
END:VCALENDAR