BEGIN:VCALENDAR
VERSION:2.0
PRODID:-//Kaleidos Wine - ECPv6.15.20//NONSGML v1.0//EN
CALSCALE:GREGORIAN
METHOD:PUBLISH
X-ORIGINAL-URL:https://kaleidoswine.com
X-WR-CALDESC:Events for Kaleidos Wine
REFRESH-INTERVAL;VALUE=DURATION:PT1H
X-Robots-Tag:noindex
X-PUBLISHED-TTL:PT1H
BEGIN:VTIMEZONE
TZID:America/Los_Angeles
BEGIN:DAYLIGHT
TZOFFSETFROM:-0800
TZOFFSETTO:-0700
TZNAME:PDT
DTSTART:20250309T100000
END:DAYLIGHT
BEGIN:STANDARD
TZOFFSETFROM:-0700
TZOFFSETTO:-0800
TZNAME:PST
DTSTART:20251102T090000
END:STANDARD
BEGIN:DAYLIGHT
TZOFFSETFROM:-0800
TZOFFSETTO:-0700
TZNAME:PDT
DTSTART:20260308T100000
END:DAYLIGHT
BEGIN:STANDARD
TZOFFSETFROM:-0700
TZOFFSETTO:-0800
TZNAME:PST
DTSTART:20261101T090000
END:STANDARD
BEGIN:DAYLIGHT
TZOFFSETFROM:-0800
TZOFFSETTO:-0700
TZNAME:PDT
DTSTART:20270314T100000
END:DAYLIGHT
BEGIN:STANDARD
TZOFFSETFROM:-0700
TZOFFSETTO:-0800
TZNAME:PST
DTSTART:20271107T090000
END:STANDARD
END:VTIMEZONE
BEGIN:VEVENT
DTSTART;TZID=America/Los_Angeles:20260516T120000
DTEND;TZID=America/Los_Angeles:20260516T163000
DTSTAMP:20260423T111831
CREATED:20260404T171716Z
LAST-MODIFIED:20260404T171716Z
UID:1000-1778932800-1778949000@kaleidoswine.com
SUMMARY:Paso Wine Fest
DESCRIPTION:Enjoy the best that Paso Robles Wine Country has to offer across one weekend full of incredible wine events. From winemaker dinners and an event all about food and wine pairings\, brunch-time bubbles and of course the Grand Tasting featuring 100+ wineries\, you don’t want to miss this once-a-year experience.
URL:https://kaleidoswine.com/event/paso-wine-fest/
LOCATION:Paso Robles Event Center\, 2198 Riverside Ave\, Paso Robles\, CA\, 93446\, United States
ATTACH;FMTTYPE=image/jpeg:https://kaleidoswine.com/wp-content/uploads/2026/04/PRWCA_PWF26_MainEvent_1070x593_featweb.jpg
END:VEVENT
BEGIN:VEVENT
DTSTART;TZID=America/Los_Angeles:20260620T120000
DTEND;TZID=America/Los_Angeles:20260620T170000
DTSTAMP:20260423T111831
CREATED:20260404T172022Z
LAST-MODIFIED:20260404T172022Z
UID:1003-1781956800-1781974800@kaleidoswine.com
SUMMARY:Garagiste Festival Urban Exposure: Los Angeles
DESCRIPTION:The Garagiste Urban Exposure Festival is a unique chance to taste with over 40 ultra-premium\, under-the radar micro-wineries from all over California including Napa\, Sonoma\, Paso Robles\, Santa Barbara\, Santa Cruz\, Sierra Foothills and Mendocino AVAs all under one roof. Over 70% of these wineries do not have tasting rooms and can’t be found on “wine country” maps! \nCome explore CA with us!
URL:https://kaleidoswine.com/event/garagiste-festival-urban-exposure-los-angeles-2/
LOCATION:Glendale Civic Auditorium\, 1401 N Verdugo Rd\, Glendale\, CA\, 91208\, United States
ATTACH;FMTTYPE=image/webp:https://kaleidoswine.com/wp-content/uploads/2026/04/GaragsiteTruckLosAngeles.webp
END:VEVENT
END:VCALENDAR