BEGIN:VCALENDAR
VERSION:2.0
PRODID:-//Kaleidos Wine - ECPv6.15.20//NONSGML v1.0//EN
CALSCALE:GREGORIAN
METHOD:PUBLISH
X-WR-CALNAME:Kaleidos Wine
X-ORIGINAL-URL:https://kaleidoswine.com
X-WR-CALDESC:Events for Kaleidos Wine
REFRESH-INTERVAL;VALUE=DURATION:PT1H
X-Robots-Tag:noindex
X-PUBLISHED-TTL:PT1H
BEGIN:VTIMEZONE
TZID:America/Los_Angeles
BEGIN:DAYLIGHT
TZOFFSETFROM:-0800
TZOFFSETTO:-0700
TZNAME:PDT
DTSTART:20230312T100000
END:DAYLIGHT
BEGIN:STANDARD
TZOFFSETFROM:-0700
TZOFFSETTO:-0800
TZNAME:PST
DTSTART:20231105T090000
END:STANDARD
BEGIN:DAYLIGHT
TZOFFSETFROM:-0800
TZOFFSETTO:-0700
TZNAME:PDT
DTSTART:20240310T100000
END:DAYLIGHT
BEGIN:STANDARD
TZOFFSETFROM:-0700
TZOFFSETTO:-0800
TZNAME:PST
DTSTART:20241103T090000
END:STANDARD
BEGIN:DAYLIGHT
TZOFFSETFROM:-0800
TZOFFSETTO:-0700
TZNAME:PDT
DTSTART:20250309T100000
END:DAYLIGHT
BEGIN:STANDARD
TZOFFSETFROM:-0700
TZOFFSETTO:-0800
TZNAME:PST
DTSTART:20251102T090000
END:STANDARD
BEGIN:DAYLIGHT
TZOFFSETFROM:-0800
TZOFFSETTO:-0700
TZNAME:PDT
DTSTART:20260308T100000
END:DAYLIGHT
BEGIN:STANDARD
TZOFFSETFROM:-0700
TZOFFSETTO:-0800
TZNAME:PST
DTSTART:20261101T090000
END:STANDARD
END:VTIMEZONE
BEGIN:VEVENT
DTSTART;TZID=America/Los_Angeles:20250329T140000
DTEND;TZID=America/Los_Angeles:20250329T170000
DTSTAMP:20260423T055220
CREATED:20250312T175336Z
LAST-MODIFIED:20250312T175336Z
UID:933-1743256800-1743267600@kaleidoswine.com
SUMMARY:OC Food & Wine Celebration
DESCRIPTION:OC Food & Wine TASTING FESTIVAL in Laguna Beach\, CA.  Are you ready for an afternoon of ALL INCLUSIVE wine\, spirits\, craft beer\, and mouth-watering food?  At Roosters OC Food & Wine Celebration event\, you can indulge in the finest drinks and cuisine\, all while supporting a worthy cause. \n  \nSavor premium wines\, spirits\, and live music while engaging with passionate winemakers and experts. Enjoy gourmet hors d’oeuvres from local restaurants and decadent desserts. Sip\, swirl\, order your favorites\, and bid on exclusive auction items for an unforgettable event! Your ticket grants you unlimited access to all food and beverage tastings\, setting our event apart from others that limit your culinary adventure.
URL:https://kaleidoswine.com/event/oc-food-wine-celebration/
LOCATION:Festival of Arts of Laguna Beach\, 650 Laguna Canyon Road\, Laguna Beach\, CA\, 92651\, United States
ATTACH;FMTTYPE=image/avif:https://kaleidoswine.com/wp-content/uploads/2025/03/https___cdn.evbuc_.com_images_927316783_338992130767_1_original.avif
END:VEVENT
BEGIN:VEVENT
DTSTART;TZID=America/Los_Angeles:20250322T093000
DTEND;TZID=America/Los_Angeles:20250322T160000
DTSTAMP:20260423T055220
CREATED:20250121T031419Z
LAST-MODIFIED:20250121T031558Z
UID:908-1742635800-1742659200@kaleidoswine.com
SUMMARY:Rhone Rangers Experience
DESCRIPTION:Join Kaleidos Winery at the 17th Annual “Rhone Rangers Experience” in Paso Robles\, CA\, as we proudly showcase our specialty in Rhone varietals. Kaleidos is excited to participate in this renowned event\, celebrating the finest Rhone wines from across the USA. \nEvent Details: \nThis exciting and educational day will take place at the Paso Robles Event Center\, bringing together Rhone enthusiasts for a memorable experience. \nAll-Access Pass\nIncludes: \n\nWelcoming Coffee Bar\n“Rhone Essentials” Seminar\nVintners’ Luncheon with Luncheon Auction\nEarly Access to the Grand Tasting & General Silent Auction\n\nPrice: $195 per person + tax/fees \nGrand Tasting / Silent Auction Pass\nTaste from a selection of over 250 Rhone wines produced by Rhone Rangers members from Paso Robles\, Santa Barbara County\, Ojai\, Monterey\, Napa\, Sonoma\, El Dorado\, Lodi\, Oregon\, Texas\, and Virginia! During the Grand Tasting\, participate in the Silent Auction\, featuring curated lots from Rhone Rangers member wineries. Proceeds benefit the Rhone Rangers educational mission and scholarship program. \nPrice: $85 per person + tax/fees \n\nTicketing Link: Rhone Rangers Experience 2025 \n\nLodging Information: Take advantage of special discount pricing from several Paso Robles hotels. For details on lodging partners\, visit the event webpage and scroll to the bottom: Rhone Rangers Experience Lodging. \nDon’t miss this chance to celebrate Rhone wines with Kaleidos and other passionate winemakers. We look forward to seeing you there!
URL:https://kaleidoswine.com/event/17th-annual-rhone-rangers-experience-paso-robles/
LOCATION:Paso Robles Event Center\, 2198 Riverside Ave\, Paso Robles\, CA\, 93446\, United States
ATTACH;FMTTYPE=image/png:https://kaleidoswine.com/wp-content/uploads/2025/01/RREXP-1.png
END:VEVENT
BEGIN:VEVENT
DTSTART;VALUE=DATE:20250307
DTEND;VALUE=DATE:20250310
DTSTAMP:20260423T055220
CREATED:20241219T025951Z
LAST-MODIFIED:20241219T025951Z
UID:870-1741305600-1741564799@kaleidoswine.com
SUMMARY:Wine and Cupcake Pairing With the Winemaker
DESCRIPTION:Immerse yourself in a symphony of flavors as we guide you through this unique pairing experience. Little Miss Cupcake has again curated an extraordinary tasting adventure. Her expertly crafted cupcakes\, specially designed to harmonize with each wine’s profile\, will enchant your palate with their delicate textures and complementary tastes. Join us at our Kaleidos Estate Vineyard\, where you will have the pleasure of sampling four Kaleidos wines alongside an exquisite selection of artisanal cupcakes. This unique experience will take you on a journey of taste and pleasure\, as you explore the remarkable harmony between wine and confection. Pairing flights are $30 per person and waived with a two bottle purchase. Tasting flight and cupcakes complimentary for Wine Club Members. Pairings are limited so reserve early! Reservations required. \n \n 
URL:https://kaleidoswine.com/event/wine-and-cupcake-pairing-with-the-winemaker-3/
LOCATION:Kaleidos Estate\, 1990 Township Rd.\, Paso Robles\, CA\, 93446\, United States
ATTACH;FMTTYPE=image/jpeg:https://kaleidoswine.com/wp-content/uploads/2024/11/IMG_2302-1.jpg
ORGANIZER;CN="Kaleidos":MAILTO:steve@kaleidoswine.com
END:VEVENT
BEGIN:VEVENT
DTSTART;TZID=America/Los_Angeles:20250222T150000
DTEND;TZID=America/Los_Angeles:20250222T170000
DTSTAMP:20260423T055220
CREATED:20241219T042525Z
LAST-MODIFIED:20241219T042525Z
UID:884-1740236400-1740243600@kaleidoswine.com
SUMMARY:BlendFest on the Coast Sunset Grand Tasting
DESCRIPTION:BlendFest: Sunset Grand Tasting\n\n\nBlendFest on the Coast Sunset Grand Tasting will bring 40+ renowned wineries of Paso Robles to the coast\, each showcasing distinct blends. Guests will enjoy spectacular wines\, only surpassed by the stunning ocean views\, along the Highway 1 Road Trip. \nBlendFest Sunset Grand Tasting\nSaturday\, Feb. 22\, 2025\nGeneral Admission 3-5 p.m.\nVIP Admission 2-5 p.m.\n\nWhere: Oceanpoint Ranch\, Cambria\nWhat: 120+ wines from 40+ wineries\, live music\, food for purchase\, commemorative wine glass\nNote: This is an outdoor event. Please dress warmly.\n\n\n\nPARTICIPATING WINERIES:\nAaron Wines\, Absolution Cellars\, Adelaida Vineyards & Winery\, Alta Colina Vineyard & Winery\, Asuncion Ridge Vineyards\, Austin Hope Wines\, B & E Vineyard & Winery\, Bianchi Winery\, Brecon Estate\, Bushong Vintage Company\, Cairjn Wine Cellars\, Calcareous Vineyard\, Caliza Winery\, Cass Winery\, Chronic Cellars\, Denner Vineyards\, Derby Wine Estates\, Écluse Wines\, Four Lanterns Winery\, Harmony Cellars\, Hearst Ranch Winery- San Simeon\, High Camp Wines\, J Dusi Wines\, J. Lohr Vineyards & Wines\, Kaleidos\, Linne Calodo Cellars\, Lone Madrone\, MAHA Estate | Villa Creek Cellars\, McPrice Myers Wines\, MCV Wines\, Midnight Cellars\, ONX Wines\, Peachy Canyon Winery\, Shale Oak Winery\, Stilson Cellars\, Thacher Winery\, Thibido Winery\, Vina Robles Vineyards & Winery\, ZANOLI Wines\, Zobèto Wines
URL:https://kaleidoswine.com/event/blendfest-on-the-coast-sunset-grand-tasting/
LOCATION:Oceanpoint Ranch\, 7200 Moonstone Beach Drive\, Cambria\, CA\, 93428\, United States
ATTACH;FMTTYPE=image/jpeg:https://kaleidoswine.com/wp-content/uploads/2024/12/PRWCA_BF25_Sunset_1920x1080_FB.jpg
END:VEVENT
BEGIN:VEVENT
DTSTART;TZID=America/Los_Angeles:20250221T180000
DTEND;TZID=America/Los_Angeles:20250221T200000
DTSTAMP:20260423T055220
CREATED:20241219T043010Z
LAST-MODIFIED:20250106T174812Z
UID:889-1740160800-1740168000@kaleidoswine.com
SUMMARY:Winemaker Dinner at Cavalier Oceanfront Resort
DESCRIPTION:Winemaker Dinner at Cavalier Oceanfront Resort\nFriday\, Feb. 21\, 2025\nEnjoy panoramic views of the Pacific Ocean while dining on classic American cuisine. Nestled atop a scenic bluff overlooking the California coastline\, the Cavalier Coastal Kitchen is a true hidden gem. This limited experience includes dinner with four Paso Robles winemakers. \n\nWhen: Friday\, Feb. 21 | 6 p.m.\nWhere: Cavalier Oceanfront Resort\, San Simeon\nWineries: CASS Winery\, Kaleidos\, MAHA Estate | Villa Creek Cellars\, McPrice Myers Wines\n\nPurchase Tickets
URL:https://kaleidoswine.com/event/winemaker-dinner-at-cavalier-oceanfront-resort/
LOCATION:Cavalier Oceanfront Resort\, 9415 Hearst Dr\, San Simeon\, CA\, 93452\, United States
ATTACH;FMTTYPE=image/jpeg:https://kaleidoswine.com/wp-content/uploads/2024/12/PRWCA_BF25_WineDinners_1920x1080_FB.jpg
END:VEVENT
BEGIN:VEVENT
DTSTART;VALUE=DATE:20250207
DTEND;VALUE=DATE:20250209
DTSTAMP:20260423T055220
CREATED:20241219T031255Z
LAST-MODIFIED:20241219T041446Z
UID:879-1738886400-1739059199@kaleidoswine.com
SUMMARY:11h Annual Garagiste Southern Exposure Festival.
DESCRIPTION:We hope you’ll come taste with us at the 11th Annual Garagiste Festival: Southern Exposure in Solvang\, CA on February 7th & 8th. An unpretentious and lively gathering\, where you get to actually meet the winemakers – like us! – and taste a wide variety of limited\, hand-crafted wines featuring a wide assortment of different grapes and wine styles! To get your tickets AND a 10% discount\, just click on the link below and enter the code SYVWINERY25 to save!\n\nhttps://www.my805tix.com/e/garagiste-solvang-2025
URL:https://kaleidoswine.com/event/11h-annual-garagiste-southern-exposure-festival/
LOCATION:Solvang Veterans’ Memorial Hall\, 1745 Mission Drive\, Solvang\, CA\, 93463\, United States
ATTACH;FMTTYPE=image/jpeg:https://kaleidoswine.com/wp-content/uploads/2024/12/2025MainArt.jpg
END:VEVENT
BEGIN:VEVENT
DTSTART;VALUE=DATE:20250131
DTEND;VALUE=DATE:20250203
DTSTAMP:20260423T055220
CREATED:20241219T025718Z
LAST-MODIFIED:20241219T025718Z
UID:868-1738281600-1738540799@kaleidoswine.com
SUMMARY:Wine and Cupcake Pairing With the Winemaker
DESCRIPTION:Immerse yourself in a symphony of flavors as we guide you through this unique pairing experience. Little Miss Cupcake has again curated an extraordinary tasting adventure. Her expertly crafted cupcakes\, specially designed to harmonize with each wine’s profile\, will enchant your palate with their delicate textures and complementary tastes. Join us at our Kaleidos Estate Vineyard\, where you will have the pleasure of sampling four Kaleidos wines alongside an exquisite selection of artisanal cupcakes. This unique experience will take you on a journey of taste and pleasure\, as you explore the remarkable harmony between wine and confection. Pairing flights are $30 per person and waived with a two bottle purchase. Tasting flight and cupcakes complimentary for Wine Club Members. Pairings are limited so reserve early! Reservations required. \n \n 
URL:https://kaleidoswine.com/event/wine-and-cupcake-pairing-with-the-winemaker-2/
LOCATION:Kaleidos Estate\, 1990 Township Rd.\, Paso Robles\, CA\, 93446\, United States
ATTACH;FMTTYPE=image/jpeg:https://kaleidoswine.com/wp-content/uploads/2024/11/IMG_2302-1.jpg
ORGANIZER;CN="Kaleidos":MAILTO:steve@kaleidoswine.com
END:VEVENT
BEGIN:VEVENT
DTSTART;VALUE=DATE:20250103
DTEND;VALUE=DATE:20250106
DTSTAMP:20260423T055220
CREATED:20241219T024844Z
LAST-MODIFIED:20241219T025521Z
UID:863-1735862400-1736121599@kaleidoswine.com
SUMMARY:Wine and Cupcake Pairing With the Winemaker
DESCRIPTION:Immerse yourself in a symphony of flavors as we guide you through this unique pairing experience. Little Miss Cupcake has again curated an extraordinary tasting adventure. Her expertly crafted cupcakes\, specially designed to harmonize with each wine’s profile\, will enchant your palate with their delicate textures and complementary tastes. Join us at our Kaleidos Estate Vineyard\, where you will have the pleasure of sampling four Kaleidos wines alongside an exquisite selection of artisanal cupcakes. This unique experience will take you on a journey of taste and pleasure\, as you explore the remarkable harmony between wine and confection. Pairing flights are $30 per person and waived with a two bottle purchase. Tasting flight and cupcakes complimentary for Wine Club Members. Pairings are limited so reserve early! Reservations required. \n \n  \n 
URL:https://kaleidoswine.com/event/wine-and-cupcake-pairing-with-the-winemaker/
LOCATION:Kaleidos Estate\, 1990 Township Rd.\, Paso Robles\, CA\, 93446\, United States
ATTACH;FMTTYPE=image/jpeg:https://kaleidoswine.com/wp-content/uploads/2024/11/IMG_2302-1.jpg
ORGANIZER;CN="Kaleidos":MAILTO:steve@kaleidoswine.com
END:VEVENT
BEGIN:VEVENT
DTSTART;VALUE=DATE:20241205
DTEND;VALUE=DATE:20241209
DTSTAMP:20260423T055220
CREATED:20241127T044147Z
LAST-MODIFIED:20241128T225225Z
UID:731-1733439600-1733698799@kaleidoswine.com
SUMMARY:Wine and Cupcake Pairing With the Winemaker
DESCRIPTION:Immerse yourself in a symphony of flavors as we guide you through this unique pairing experience. Little Miss Cupcake has again curated an extraordinary tasting adventure. Her expertly crafted cupcakes\, specially designed to harmonize with each wine’s profile\, will enchant your palate with their delicate textures and complementary tastes. Join us at our Kaleidos Estate Vineyard\, where you will have the pleasure of sampling four Kaleidos wines alongside an exquisite selection of artisanal cupcakes. This unique experience will take you on a journey of taste and pleasure\, as you explore the remarkable harmony between wine and confection. Pairing flights are $30 per person and waived with a two bottle purchase. Tasting flight and cupcakes complimentary for Wine Club Members. Pairings are limited so reserve early! Reservations required.
URL:https://kaleidoswine.com/event/kaleidos-estate-wine-and-cupcake-pairing-with-the-winemaker/
LOCATION:Kaleidos Estate\, 1990 Township Rd.\, Paso Robles\, CA\, 93446\, United States
ATTACH;FMTTYPE=image/jpeg:https://kaleidoswine.com/wp-content/uploads/2024/11/IMG_2302-1.jpg
ORGANIZER;CN="Kaleidos":MAILTO:steve@kaleidoswine.com
END:VEVENT
BEGIN:VEVENT
DTSTART;TZID=America/Los_Angeles:20241204T150000
DTEND;TZID=America/Los_Angeles:20241204T170000
DTSTAMP:20260423T055220
CREATED:20241127T051709Z
LAST-MODIFIED:20241127T051709Z
UID:744-1733324400-1733331600@kaleidoswine.com
SUMMARY:Rhone Rangers Winter Rhone Wines Webinar
DESCRIPTION:oin the Rhone Rangers for a webinar highlighting Rhone wines that are perfect pairings for winter cuisine and entertaining! \nFeatured Rhone Rangers: \n2015 Roussanne\nBill Easton\, Owner/Winemaker\nTerre Rouge –  Plymouth\, CA \n2020 Parr Mourvèdre\nDoug Lewis\, Co-Owner/Winemaker\nLewis Winery – Johnson City\, TX \n2023 Mourvèdre\nRachel Stinson Vrooman\, Owner/Winemaker\nStinson Vineyards – Crozet\, VA \n2019 Chemin de Fer\n81% Grenache\, 10% Mourvèdre\, 9% Syrah\nDanielle Langlois\, Winemaker\nLasseter Family Winery – Glen Ellen\, CA \n2021 Morpheus\n53% Syrah\, 23% Carignan\, 20% Grenache\, 4% Petite Sirah\nSteve Martell\, Owner/Winemaker\nKaleidos Winery – Paso Robles\, CA \n \nPlease contact each winery individually to purchase wine to taste throughout the webinar.
URL:https://kaleidoswine.com/event/rhone-rangers-winter-rhone-wines-webinar/
LOCATION:Zoom
ATTACH;FMTTYPE=image/png:https://kaleidoswine.com/wp-content/uploads/2024/11/Winter-Rhone-Wines-Webinar-3.png
END:VEVENT
END:VCALENDAR