BEGIN:VCALENDAR
VERSION:2.0
PRODID:-//Kaleidos Wine - ECPv6.15.20//NONSGML v1.0//EN
CALSCALE:GREGORIAN
METHOD:PUBLISH
X-WR-CALNAME:Kaleidos Wine
X-ORIGINAL-URL:https://kaleidoswine.com
X-WR-CALDESC:Events for Kaleidos Wine
REFRESH-INTERVAL;VALUE=DURATION:PT1H
X-Robots-Tag:noindex
X-PUBLISHED-TTL:PT1H
BEGIN:VTIMEZONE
TZID:America/Los_Angeles
BEGIN:DAYLIGHT
TZOFFSETFROM:-0800
TZOFFSETTO:-0700
TZNAME:PDT
DTSTART:20250309T100000
END:DAYLIGHT
BEGIN:STANDARD
TZOFFSETFROM:-0700
TZOFFSETTO:-0800
TZNAME:PST
DTSTART:20251102T090000
END:STANDARD
BEGIN:DAYLIGHT
TZOFFSETFROM:-0800
TZOFFSETTO:-0700
TZNAME:PDT
DTSTART:20260308T100000
END:DAYLIGHT
BEGIN:STANDARD
TZOFFSETFROM:-0700
TZOFFSETTO:-0800
TZNAME:PST
DTSTART:20261101T090000
END:STANDARD
BEGIN:DAYLIGHT
TZOFFSETFROM:-0800
TZOFFSETTO:-0700
TZNAME:PDT
DTSTART:20270314T100000
END:DAYLIGHT
BEGIN:STANDARD
TZOFFSETFROM:-0700
TZOFFSETTO:-0800
TZNAME:PST
DTSTART:20271107T090000
END:STANDARD
END:VTIMEZONE
BEGIN:VEVENT
DTSTART;TZID=America/Los_Angeles:20260221T140000
DTEND;TZID=America/Los_Angeles:20260221T170000
DTSTAMP:20260423T083708
CREATED:20260130T211801Z
LAST-MODIFIED:20260130T211801Z
UID:984-1771682400-1771693200@kaleidoswine.com
SUMMARY:BlendFest on the Coast
DESCRIPTION:BlendFest on the Coast\n\n\nExperience a taste of Paso Robles Wine Country along the beautiful California coast. \nPaso Robles BlendFest on the Coast – the only festival dedicated to blends – will take place Feb. 19-22\, 2026\, in San Simeon and Cambria with a selection of exciting events. Paso Robles’ winemakers love to blend wine\, mixing varieties to craft something unique and delicious. BlendFest celebrates rule-breaking\, traditional\, and unconventional wine blends throughout the weekend. \nGet Tickets >>\nFor $5 off a GA ticket\, use PROMO CODE: KALEIDOS
URL:https://kaleidoswine.com/event/blendfest-on-the-coast/
LOCATION:Oceanpoint Ranch\, 7200 Moonstone Beach Drive\, Cambria\, CA\, 93428\, United States
ATTACH;FMTTYPE=image/jpeg:https://kaleidoswine.com/wp-content/uploads/2026/01/PRWCA_BF26_Sunset_1070x593_featweb.jpg
END:VEVENT
END:VCALENDAR